BEGIN:VCALENDAR
VERSION:2.0
PRODID:-//Volunteering Kingston - ECPv4.6.13//NONSGML v1.0//EN
CALSCALE:GREGORIAN
METHOD:PUBLISH
X-WR-CALNAME:Volunteering Kingston
X-ORIGINAL-URL:https://www.volunteeringkingston.org.uk
X-WR-CALDESC:Events for Volunteering Kingston
BEGIN:VEVENT
DTSTART;TZID=UTC+0:20190312T140000
DTEND;TZID=UTC+0:20190312T160000
DTSTAMP:20260424T115331
CREATED:20190109T103536Z
LAST-MODIFIED:20190221T120640Z
UID:1085-1552399200-1552406400@www.volunteeringkingston.org.uk
SUMMARY:Volunteering Advice Session – New Malden Library
DESCRIPTION:Come and meet the team at our monthly drop-in session for Volunteers at New Malden Library. Find out what support is available to you and how we can meet your volunteering needs. We offer advice and support on searching and applying for roles\,  preparing for interviews and any other volunteering related questions. \n  \n
URL:https://www.volunteeringkingston.org.uk/event/volunteers-drop-in-new-malden-library-2/
LOCATION:Kingston Rd\,\, New Malden\, KT3 3LY\, United Kingdom
CATEGORIES:New Malden Library,Volunteers,Drop-in session
ATTACH;FMTTYPE=image/jpeg:https://www.volunteeringkingston.org.uk/wp-content/uploads/2019/01/Kingston-drop-in-3-e1547029100946.jpg
END:VEVENT
END:VCALENDAR