BEGIN:VCALENDAR
VERSION:2.0
PRODID:-//Volunteering Kingston - ECPv4.6.13//NONSGML v1.0//EN
CALSCALE:GREGORIAN
METHOD:PUBLISH
X-WR-CALNAME:Volunteering Kingston
X-ORIGINAL-URL:https://www.volunteeringkingston.org.uk
X-WR-CALDESC:Events for Volunteering Kingston
BEGIN:VEVENT
DTSTART;TZID=UTC+0:20180824T110000
DTEND;TZID=UTC+0:20180824T130000
DTSTAMP:20260422T113959
CREATED:20180806T110236Z
LAST-MODIFIED:20180806T110237Z
UID:809-1535108400-1535115600@www.volunteeringkingston.org.uk
SUMMARY:Volunteers drop-in - Hook & Chessington Library
DESCRIPTION:Come and meet the team at our drop-in session for Volunteers at Hook and Chessington Library. Find out what support is available to you and how we can meet your volunteering needs. We offer advice and support on searching and applying for roles\,  preparing for interviews and any other volunteering related questions. \nLook out for the Volunteering Kingston banner. \n
URL:https://www.volunteeringkingston.org.uk/event/volunteers-drop-in-hook-chessington-library-5/
LOCATION:The Hook Centre\, Hook Rd\, London\, Chessington\, KT9 1EJ\, United Kingdom
CATEGORIES:Volunteers,Drop-in session,hook and chessington library
ATTACH;FMTTYPE=image/jpeg:https://www.volunteeringkingston.org.uk/wp-content/uploads/2018/04/resized-hook-library.jpg
END:VEVENT
END:VCALENDAR