BEGIN:VCALENDAR
VERSION:2.0
PRODID:-//Volunteering Kingston - ECPv4.6.13//NONSGML v1.0//EN
CALSCALE:GREGORIAN
METHOD:PUBLISH
X-WR-CALNAME:Volunteering Kingston
X-ORIGINAL-URL:https://www.volunteeringkingston.org.uk
X-WR-CALDESC:Events for Volunteering Kingston
BEGIN:VEVENT
DTSTART;TZID=UTC+0:20190327T100000
DTEND;TZID=UTC+0:20190327T130000
DTSTAMP:20260422T103353
CREATED:20190314T150124Z
LAST-MODIFIED:20190314T150124Z
UID:1203-1553680800-1553691600@www.volunteeringkingston.org.uk
SUMMARY:Volunteering Kingston – Organisation Advice Session
DESCRIPTION:Come and meet Volunteering Kingston at our specialist 1-2-1 support surgery where we provide support to organisations on all aspects of involving volunteers. \nThe meeting is guided by what support or advice you would like about any aspect of your organisation involving volunteers. \nTo book your slot with us go to: https://www.eventbrite.co.uk/e/volunteering-kingston-organisation-surgery-tickets-55078988738 \n
URL:https://www.volunteeringkingston.org.uk/event/volunteering-kingston-organisation-advice-session/
CATEGORIES:Organisations
ATTACH;FMTTYPE=image/jpeg:https://www.volunteeringkingston.org.uk/wp-content/uploads/2018/08/Orgs.jpg
END:VEVENT
END:VCALENDAR