BEGIN:VCALENDAR
VERSION:2.0
PRODID:-//Volunteering Kingston - ECPv4.6.13//NONSGML v1.0//EN
CALSCALE:GREGORIAN
METHOD:PUBLISH
X-WR-CALNAME:Volunteering Kingston
X-ORIGINAL-URL:https://www.volunteeringkingston.org.uk
X-WR-CALDESC:Events for Volunteering Kingston
BEGIN:VEVENT
DTSTART;TZID=UTC+0:20190725T100000
DTEND;TZID=UTC+0:20190725T133000
DTSTAMP:20260424T070523
CREATED:20190605T141928Z
LAST-MODIFIED:20190611T153125Z
UID:1292-1564048800-1564061400@www.volunteeringkingston.org.uk
SUMMARY:Volunteering Kingston – Organisation Advice Session
DESCRIPTION:Come and meet Volunteering Kingston at our specialist 1-2-1 support surgery where we provide support to organisations on all aspects of involving volunteers. \nThe meeting is guided by what support or advice you would like about any aspect of your organisation involving volunteers. \nBook your slot here: https://www.eventbrite.co.uk/e/volunteering-kingston-organisation-advice-session-tickets-62993920512 \n
URL:https://www.volunteeringkingston.org.uk/event/volunteering-kingston-organisation-advice-session-5/
CATEGORIES:Organisations
ATTACH;FMTTYPE=image/jpeg:https://www.volunteeringkingston.org.uk/wp-content/uploads/2018/09/kingston-library-resized_400x200_acf_cropped_400x200_acf_cropped.jpg
END:VEVENT
END:VCALENDAR