BEGIN:VCALENDAR
VERSION:2.0
PRODID:-//Volunteering Kingston - ECPv4.6.13//NONSGML v1.0//EN
CALSCALE:GREGORIAN
METHOD:PUBLISH
X-WR-CALNAME:Volunteering Kingston
X-ORIGINAL-URL:https://www.volunteeringkingston.org.uk
X-WR-CALDESC:Events for Volunteering Kingston
BEGIN:VEVENT
DTSTART;TZID=UTC+0:20190429T080000
DTEND;TZID=UTC+0:20190429T170000
DTSTAMP:20260421T233333
CREATED:20190429T155708Z
LAST-MODIFIED:20190429T155937Z
UID:1254-1556524800-1556557200@www.volunteeringkingston.org.uk
SUMMARY:Volunteering Kingston – Organisation Advice Session
DESCRIPTION:Come and meet Volunteering Kingston at our specialist 1-2-1 support surgery where we provide support to organisations on all aspects of involving volunteers. \nThe meeting is guided by what support or advice you would like about any aspect of your organisation involving volunteers. \nhttps://www.eventbrite.co.uk/e/volunteering-kingston-organisation-advice-session-tickets-61037854867 \n
URL:https://www.volunteeringkingston.org.uk/event/volunteering-kingston-organisation-advice-session-3/
CATEGORIES:Organisations
ATTACH;FMTTYPE=image/jpeg:https://www.volunteeringkingston.org.uk/wp-content/uploads/2019/04/Orgs.jpg
END:VEVENT
END:VCALENDAR