BEGIN:VCALENDAR
VERSION:2.0
PRODID:-//Volunteering Kingston - ECPv4.6.13//NONSGML v1.0//EN
CALSCALE:GREGORIAN
METHOD:PUBLISH
X-WR-CALNAME:Volunteering Kingston
X-ORIGINAL-URL:https://www.volunteeringkingston.org.uk
X-WR-CALDESC:Events for Volunteering Kingston
BEGIN:VEVENT
DTSTART;TZID=UTC+0:20190611T140000
DTEND;TZID=UTC+0:20190611T160000
DTSTAMP:20260423T153519
CREATED:20190503T113053Z
LAST-MODIFIED:20190503T113053Z
UID:1276-1560261600-1560268800@www.volunteeringkingston.org.uk
SUMMARY:Volunteering Advice Session – New Malden Library
DESCRIPTION:Come and meet the team at our monthly drop-in session for Volunteers at New Malden Library. Find out what support is available to you and how we can meet your volunteering needs. We offer advice and support on searching and applying for roles\,  preparing for interviews and any other volunteering related questions. \nLook out for the Volunteering Kingston Banner! \n
URL:https://www.volunteeringkingston.org.uk/event/volunteering-advice-session-new-malden-library-3/
LOCATION:Kingston Rd\,\, New Malden\, KT3 3LY\, United Kingdom
CATEGORIES:New Malden Library,Volunteers,Drop-in session
ATTACH;FMTTYPE=image/jpeg:https://www.volunteeringkingston.org.uk/wp-content/uploads/2018/12/Dohos8rXsAAymdZ.jpg
END:VEVENT
END:VCALENDAR