BEGIN:VCALENDAR
VERSION:2.0
PRODID:-//Volunteering Kingston - ECPv4.6.13//NONSGML v1.0//EN
CALSCALE:GREGORIAN
METHOD:PUBLISH
X-WR-CALNAME:Volunteering Kingston
X-ORIGINAL-URL:https://www.volunteeringkingston.org.uk
X-WR-CALDESC:Events for Volunteering Kingston
BEGIN:VEVENT
DTSTART;TZID=UTC+0:20190514T140000
DTEND;TZID=UTC+0:20190514T160000
DTSTAMP:20260421T183014
CREATED:20190320T100105Z
LAST-MODIFIED:20190320T100106Z
UID:1224-1557842400-1557849600@www.volunteeringkingston.org.uk
SUMMARY:Volunteering Advice Session – New Malden Library
DESCRIPTION:Come and meet the team at our monthly drop-in session for Volunteers at New Malden Library. Find out what support is available to you and how we can meet your volunteering needs. We offer advice and support on searching and applying for roles\,  preparing for interviews and any other volunteering related questions. \nLook out for the Volunteering Kingston Banner! \n
URL:https://www.volunteeringkingston.org.uk/event/volunteering-advice-session-new-malden-library-2/
LOCATION:Kingston Rd\,\, New Malden\, KT3 3LY\, United Kingdom
CATEGORIES:Volunteers,Drop-in session,New Malden Library
ATTACH;FMTTYPE=image/jpeg:https://www.volunteeringkingston.org.uk/wp-content/uploads/2019/01/Kingston-drop-in-3-e1547029100946.jpg
END:VEVENT
END:VCALENDAR