BEGIN:VCALENDAR
VERSION:2.0
PRODID:-//Volunteering Kingston - ECPv4.6.13//NONSGML v1.0//EN
CALSCALE:GREGORIAN
METHOD:PUBLISH
X-WR-CALNAME:Volunteering Kingston
X-ORIGINAL-URL:https://www.volunteeringkingston.org.uk
X-WR-CALDESC:Events for Volunteering Kingston
BEGIN:VEVENT
DTSTART;TZID=UTC+0:20190523T110000
DTEND;TZID=UTC+0:20190523T130000
DTSTAMP:20260421T153023
CREATED:20190503T112320Z
LAST-MODIFIED:20190503T112320Z
UID:1269-1558609200-1558616400@www.volunteeringkingston.org.uk
SUMMARY:Volunteering Advice Session – Kingston Library
DESCRIPTION:Come and meet the team at our drop-in session for Volunteers at Kingston Library. Find out what support is available to you and how we can meet your volunteering needs. We offer advice and support on searching and applying for roles\,  preparing for interviews and any other volunteering related questions. \n
URL:https://www.volunteeringkingston.org.uk/event/volunteering-advice-session-kingston-library-7/
LOCATION:Kingston Library\, Fairfield Road\, London\, KT1 2PS\, United Kingdom
CATEGORIES:kingston library,Volunteers,Drop-in session
ATTACH;FMTTYPE=image/jpeg:https://www.volunteeringkingston.org.uk/wp-content/uploads/2018/12/resized-hook-library.jpg
END:VEVENT
END:VCALENDAR