BEGIN:VCALENDAR
VERSION:2.0
PRODID:-//Volunteering Kingston - ECPv4.6.13//NONSGML v1.0//EN
CALSCALE:GREGORIAN
METHOD:PUBLISH
X-WR-CALNAME:Volunteering Kingston
X-ORIGINAL-URL:https://www.volunteeringkingston.org.uk
X-WR-CALDESC:Events for Volunteering Kingston
BEGIN:VEVENT
DTSTART;TZID=UTC+0:20190503T110000
DTEND;TZID=UTC+0:20190503T130000
DTSTAMP:20260421T213856
CREATED:20190221T110501Z
LAST-MODIFIED:20190320T094741Z
UID:1178-1556881200-1556888400@www.volunteeringkingston.org.uk
SUMMARY:Volunteering Advice Session Hook & Chessington Library
DESCRIPTION:Come and meet the team at our drop-in session for Volunteers at Hook & Chessington Library. Find out what support is available to you and how we can meet your volunteering needs. We offer advice and support on searching and applying for roles\,  preparing for interviews and any other volunteering related questions. \nLook out for the Volunteering Kingston banner. \n
URL:https://www.volunteeringkingston.org.uk/event/volunteering-advice-session-hook-chessington-library-2/
LOCATION:The Hook Centre\, Hook Rd\, London\, Chessington\, KT9 1EJ\, United Kingdom
CATEGORIES:Drop-in session,hook and chessington library,Volunteers
ATTACH;FMTTYPE=image/jpeg:https://www.volunteeringkingston.org.uk/wp-content/uploads/2018/09/kingston-library-resized_400x200_acf_cropped_400x200_acf_cropped.jpg
END:VEVENT
END:VCALENDAR