BEGIN:VCALENDAR
VERSION:2.0
PRODID:-//Volunteering Kingston - ECPv4.6.13//NONSGML v1.0//EN
CALSCALE:GREGORIAN
METHOD:PUBLISH
X-WR-CALNAME:Volunteering Kingston
X-ORIGINAL-URL:https://www.volunteeringkingston.org.uk
X-WR-CALDESC:Events for Volunteering Kingston
BEGIN:VEVENT
DTSTART;TZID=UTC+0:20190529T100000
DTEND;TZID=UTC+0:20190529T130000
DTSTAMP:20260421T134732
CREATED:20190405T080658Z
LAST-MODIFIED:20190405T080658Z
UID:1232-1559124000-1559134800@www.volunteeringkingston.org.uk
SUMMARY:Pop-up volunteer advice session - John Lewis
DESCRIPTION:Volunteering Kingston is holding a one-off volunteer advice session at John Lewis Kingston in the run-up to volunteers week. If you would like to find out about charities and community groups in Kingston that are looking for volunteers\, come and meet with the team from Volunteering Kingston to find out more. Just drop in\, no appointments needed! \nWe will be positioned in the foyer\, look out for the Volunteering Kingston banner. \n
URL:https://www.volunteeringkingston.org.uk/event/pop-up-volunteer-advice-session-john-lewis/
LOCATION:Wood St\, Kingston upon Thames\, KT1 1TE
CATEGORIES:Volunteers,Drop-in session
ATTACH;FMTTYPE=image/jpeg:https://www.volunteeringkingston.org.uk/wp-content/uploads/2018/09/kingston-library-resized_400x200_acf_cropped.jpg
END:VEVENT
END:VCALENDAR