BEGIN:VCALENDAR
VERSION:2.0
PRODID:-//Volunteering Kingston - ECPv4.6.13//NONSGML v1.0//EN
CALSCALE:GREGORIAN
METHOD:PUBLISH
X-WR-CALNAME:Volunteering Kingston
X-ORIGINAL-URL:https://www.volunteeringkingston.org.uk
X-WR-CALDESC:Events for Volunteering Kingston
BEGIN:VEVENT
DTSTART;TZID=UTC+0:20190604T113000
DTEND;TZID=UTC+0:20190604T123000
DTSTAMP:20260421T105349
CREATED:20190503T104307Z
LAST-MODIFIED:20190503T110257Z
UID:1259-1559647800-1559651400@www.volunteeringkingston.org.uk
SUMMARY:Networking and Training Session for Organisations
DESCRIPTION:Volunteering Kingston is offering the opportunity for organisations to take part in a training session with guest speakers while networking with other volunteer-involving organisations. More information on the content of the workshop and speakers will be announced soon but please do book your space on the session if you would like to attend. We hope to see you there! \nTo book your place go to https://www.eventbrite.co.uk/e/kingston-volunteers-week-network-and-workshop-for-organisations-tickets-60571403699 \n
URL:https://www.volunteeringkingston.org.uk/event/networking-and-training-session-for-organisations/
LOCATION:Fairfield E\, Kingston upon Thames\, KT1 2PT\, United Kingdom
CATEGORIES:Organisations,volunteers week
ATTACH;FMTTYPE=image/jpeg:https://www.volunteeringkingston.org.uk/wp-content/uploads/2018/05/NCVO-Vol-week-Logo-2018-colour-with-tagline-large.jpg
END:VEVENT
END:VCALENDAR